﻿BEGIN:VCALENDAR
VERSION:2.0
PRODID:-//Art del Bonsai - ECPv6.15.20//NONSGML v1.0//EN
CALSCALE:GREGORIAN
METHOD:PUBLISH
X-WR-CALNAME:Art del Bonsai
X-ORIGINAL-URL:https://www.artdelbonsai.org
X-WR-CALDESC:Esdeveniments per Art del Bonsai
REFRESH-INTERVAL;VALUE=DURATION:PT1H
X-Robots-Tag:noindex
X-PUBLISHED-TTL:PT1H
BEGIN:VTIMEZONE
TZID:Europe/Madrid
BEGIN:DAYLIGHT
TZOFFSETFROM:+0100
TZOFFSETTO:+0200
TZNAME:CEST
DTSTART:20240331T010000
END:DAYLIGHT
BEGIN:STANDARD
TZOFFSETFROM:+0200
TZOFFSETTO:+0100
TZNAME:CET
DTSTART:20241027T010000
END:STANDARD
BEGIN:DAYLIGHT
TZOFFSETFROM:+0100
TZOFFSETTO:+0200
TZNAME:CEST
DTSTART:20250330T010000
END:DAYLIGHT
BEGIN:STANDARD
TZOFFSETFROM:+0200
TZOFFSETTO:+0100
TZNAME:CET
DTSTART:20251026T010000
END:STANDARD
BEGIN:DAYLIGHT
TZOFFSETFROM:+0100
TZOFFSETTO:+0200
TZNAME:CEST
DTSTART:20260329T010000
END:DAYLIGHT
BEGIN:STANDARD
TZOFFSETFROM:+0200
TZOFFSETTO:+0100
TZNAME:CET
DTSTART:20261025T010000
END:STANDARD
END:VTIMEZONE
BEGIN:VEVENT
DTSTART;TZID=Europe/Madrid:20250720T090000
DTEND;TZID=Europe/Madrid:20250720T120000
DTSTAMP:20260424T103931
CREATED:20250706T085714Z
LAST-MODIFIED:20250706T133956Z
UID:5132-1753002000-1753012800@www.artdelbonsai.org
SUMMARY:TROBADA DE SOCIS EL 20 DE JULIOL DEL 2025
DESCRIPTION:Benvolguts socis\, \n\n\n\nAquest Mes de juliol\, ens trobarem el proper dia 20\, al Casal del Poble de Llerona. A les 9:00h\, Camí de l´Escola s/n Les Franqueses del Vallès. \n\n\n\n*  La Data  habitual en què solem trobar-nos\, es el 1er dissabte i 3er diumenge Mes\, de (9:00h a 12:00h aprox.)  
URL:https://www.artdelbonsai.org/calendari/trobada-de-socis-el-20-de-juliol-del-2025-2/
CATEGORIES:Esdeveniments-Trobades
ATTACH;FMTTYPE=image/png:https://www.artdelbonsai.org/wp-content/uploads/2025/07/trobades-socis-20-7-25.png
END:VEVENT
BEGIN:VEVENT
DTSTART;TZID=Europe/Madrid:20250705T090000
DTEND;TZID=Europe/Madrid:20250705T120000
DTSTAMP:20260424T103931
CREATED:20250701T090030Z
LAST-MODIFIED:20250706T085728Z
UID:5091-1751706000-1751716800@www.artdelbonsai.org
SUMMARY:TROBADA DE SOCIS EL 5 DE JULIOL DEL 2025
DESCRIPTION:Benvolguts socis\, \n\n\n\nAquest Mes de juliol\, ens trobarem el proper dia 5\, al Casal del Poble de Llerona. A les 9:00h\, Camí de l´Escola s/n Les Franqueses del Vallès. \n\n\n\n*  La Data  habitual en què solem trobar-nos\, es el 1er dissabte i 3er diumenge Mes\, de (9:00h a 12:00h aprox.)  
URL:https://www.artdelbonsai.org/calendari/trobada-de-socis-el-20-de-juliol-del-2025/
CATEGORIES:Esdeveniments-Trobades
ATTACH;FMTTYPE=image/png:https://www.artdelbonsai.org/wp-content/uploads/2025/07/Trobades-socis-5-7-25.png
END:VEVENT
BEGIN:VEVENT
DTSTART;TZID=Europe/Madrid:20250622T090000
DTEND;TZID=Europe/Madrid:20250622T120000
DTSTAMP:20260424T103931
CREATED:20250523T170528Z
LAST-MODIFIED:20250523T170547Z
UID:4924-1750582800-1750593600@www.artdelbonsai.org
SUMMARY:TROBADA SOCIS EL 22 DE JUNY DEL 2025
DESCRIPTION:Benvolguts socis\, \n\n\n \nLa segona trobada d’aquest mes de juny\, serà el proper dia 22\, al Casal del Poble de Llerona. \n A les 9:00h\, Camí de l´Escola s/n Les Franqueses del Vàlles. \n\n\n \n\n  \n*  La Data  habitual en què solem trobar-nos\, es el 3er diumenge de Mes\, (9:00h a 12:00h aprox.) però a estat modificat per el següent diumenge dia 22.
URL:https://www.artdelbonsai.org/calendari/trobada-socis-el-22-de-juny-del-2025/
CATEGORIES:Esdeveniments-Trobades
ATTACH;FMTTYPE=image/png:https://www.artdelbonsai.org/wp-content/uploads/2025/05/Trobades-socis-22-6-25.png
END:VEVENT
BEGIN:VEVENT
DTSTART;TZID=Europe/Madrid:20250607T090000
DTEND;TZID=Europe/Madrid:20250607T120000
DTSTAMP:20260424T103931
CREATED:20250523T170049Z
LAST-MODIFIED:20250523T171142Z
UID:4920-1749286800-1749297600@www.artdelbonsai.org
SUMMARY:TROBADA SOCIS EL 7 DE JUNY DEL 2025
DESCRIPTION:Benvolguts socis\, \n\n\n\nAquest Mes de juny\, ens trobarem el proper dia 7\, al Casal del Poble de Llerona. A les 9:00h\, Camí de l´Escola s/n Les Franqueses del Vàlles. \n\n\n\n    *  La Data  habitual en què solem trobar-nos\, es el 1er dissabte i 3er diumenge Mes\, de (9:00h a 12:00h aprox.)
URL:https://www.artdelbonsai.org/calendari/trobada-socis-el-7-de-juny-del-2025/
CATEGORIES:Esdeveniments-Trobades
ATTACH;FMTTYPE=image/png:https://www.artdelbonsai.org/wp-content/uploads/2025/05/Trobades-socis-7-6-25.png
END:VEVENT
BEGIN:VEVENT
DTSTART;TZID=Europe/Madrid:20250530T173000
DTEND;TZID=Europe/Madrid:20250601T133000
DTSTAMP:20260424T103931
CREATED:20250523T151355Z
LAST-MODIFIED:20250523T162411Z
UID:4863-1748626200-1748784600@www.artdelbonsai.org
SUMMARY:XXXI EXPOSICIÓ DE BONSAIS A SANTA COLOMA DE GRAMANET
DESCRIPTION:  \n31a edició del mercat i demostració\, entre d’altres activitats en el món del bonsai a Santa Coloma de Gramanet. \nUs esperem el proper dia 30\, 31 de Maig i 1 de Juny al Centre d’Art Contemporani Can Cisteré. \n \nProgramació: \nEl divendres dia 30 -> a partir de les 17:30h on es celebrarà la inauguració a les 18:30h amb assessorament i mercat per als principiants en el món dels bonsais. \nEl dissabte dia 31 -> de les 11h a la 13:30h i de les 17h a 20:30h\, tindrà lloc una xerrada amb demostracions. \nDiumenge 1 -> a partir de la 13:30h es sortejarà un exemplar ( de Mistral bonsai) \nOrganitza:  \nl’Associació Amics del Bonsai de Santa Coloma de Gramanet  \nAmb la Col·laboració:  \nl’Ajuntament de Santa Coloma de Gramanet  \nMistral Bonsai Ctra. N-340\, km 1093 Camarles\, Tarragona.  \nBonsai Haiku en el municipi de Cabrils \n \nBonsais Vave \n \n 
URL:https://www.artdelbonsai.org/calendari/xxxi-exposicio-de-bonsais-a-santa-coloma-de-gramanet/
CATEGORIES:Esdeveniments-Notícies
ATTACH;FMTTYPE=image/jpeg:https://www.artdelbonsai.org/wp-content/uploads/2025/05/31a-exposicio-bonsais-santa-coloma-de-gramanet.jpg
END:VEVENT
BEGIN:VEVENT
DTSTART;TZID=Europe/Madrid:20250518T090000
DTEND;TZID=Europe/Madrid:20250518T120000
DTSTAMP:20260424T103931
CREATED:20250515T175418Z
LAST-MODIFIED:20250523T151533Z
UID:4747-1747558800-1747569600@www.artdelbonsai.org
SUMMARY:TROBADA DE SOCIS ART DEL BONSAI
DESCRIPTION:Benvolguts socis\, \n\n\n\nLa segona trobada de Socis d’aquest Mes de maig\, serà el proper dia 18\, al Casal del Poble de Llerona. A les 9:00h\, Camí de l´Escola s/n Les Franqueses del Vàlles. \n  \n\n\n\n  \n  \nUs esperem aquest proper dia 18 de maig amb els vostres bonsais!\n*La Data  habitual en què solem trobar-nos\, es el 1er dissapte i 3er diumenge Mes\, de (9:00h a 12:00h aprox.)
URL:https://www.artdelbonsai.org/calendari/trobada-de-socis-art-del-bonsai/
CATEGORIES:Esdeveniments-Trobades
ATTACH;FMTTYPE=image/jpeg:https://www.artdelbonsai.org/wp-content/uploads/2025/05/trobada-socis-18-05-2025.jpeg
END:VEVENT
BEGIN:VEVENT
DTSTART;TZID=Europe/Madrid:20250516T100000
DTEND;TZID=Europe/Madrid:20250518T203000
DTSTAMP:20260424T103931
CREATED:20250430T073658Z
LAST-MODIFIED:20250522T143635Z
UID:4538-1747389600-1747600200@www.artdelbonsai.org
SUMMARY:EXPOSICIÓ I FIRA DE BONSAIS A MANRESA
DESCRIPTION:Del divendres dia 16 al diumenge 18 de maig tindrà lloc una exposició i fira amb tota mena d’activitats al Centre Cultural el Casino de Manresa. \nHo organitza:  l’Ajuntament de Manresa  \nl’Associació del Bages Bonsai Natura\, Plaça Oleguer Miro\, 34 08243 Manresa.    \nCol·labora: Mistral Bonsai Ctra. N-340\, km 1093 Camarles\, Tarragona.  \n  \nData: del 16 al 18 de Maig \nHoraris: \nDivendres dia 16  a les 18:00h -> Inauguracio i Exposició amb la demostració se SHODO (cal·ligrafía japonesa amb el mestre Mitsuru Nagata) \nDissabte dia 17 a les 12:00h -> Xerrada “Manteniment i cura del bonsai” \na les 19:00h -> Xerrada “El Samurai de Manresa” a càrrec de Diana Rosell. \nDiumenge dia 18-> Escriu el teu nom en Japonés amb Diana Rosell. \nLloc: Centre Cultural el Casino del Passeig de Pere lll\, 27 Baixos de Manresa. (Espai 7)
URL:https://www.artdelbonsai.org/calendari/exposicio-i-fira-de-bonsais-a-manresa/
CATEGORIES:Esdeveniments-Notícies
ATTACH;FMTTYPE=image/jpeg:https://www.artdelbonsai.org/wp-content/uploads/2025/04/Exposicio-fira-bonsais-casino-manresa-16-i-18-5-25.jpg
END:VEVENT
BEGIN:VEVENT
DTSTART;TZID=Europe/Madrid:20250510T100000
DTEND;TZID=Europe/Madrid:20250511T200000
DTSTAMP:20260424T103931
CREATED:20250428T095811Z
LAST-MODIFIED:20250522T143614Z
UID:4399-1746871200-1746993600@www.artdelbonsai.org
SUMMARY:HARU EXPOSICIÓ I MERCAT DE BONSAIS
DESCRIPTION:El proper dia 10 i 11 de maig tindrà lloc l’Exposició de bonsais Haru 2025 \nL’Exposició i mercat de Bonsai és un esdeveniment molt interesant  per explorar la bellesa dels bonsais. \nHo organitza:  l’Ajuntament de Sant Vicenç dels Horts.       \nBonsai Club Sant Vicenç\, Plaça de la pau\, s/n\, 08620-Sant Vicenç dels Horts.  \nCol·labora: El Garden de Bonsais KouSho de  l’ Avinguda de Montserrat\, 15\, 08293 Collbató\, Barcelona  i  del Centre Cívic “La Guàrdia”  \n  \nData: del 10 al 11 de Maig \nHoraris: \nDia 10 de 10:00 a 14:30h i de 16:00 a 20:00h -> Exposició i Mercat de Bonsais. \n10:30h -> Taller per al Socis dirigit per el mestre Gabriel Romero. \n16.00h  -> Continuació del Taller a mans de Gabriel Romero. \nDia 11 de 10:00 a 14:00h -> Exposició de Bonsais. \nde 10:30h a 14:00h -> Taller per els Socis del Club (cultiu\, poda\, trasplantament). \nLloc: “CAN COMAMALA” c/ Jacint Verdaguer\, 115 de Sant Vicenç dels Horts\, Barcelona. \n \n 
URL:https://www.artdelbonsai.org/calendari/haru-exposicio-i-mercat-de-bonsais/
CATEGORIES:Esdeveniments-Notícies
ATTACH;FMTTYPE=image/jpeg:https://www.artdelbonsai.org/wp-content/uploads/2025/04/Haru-10-11-mayo-25.jpg
END:VEVENT
BEGIN:VEVENT
DTSTART;TZID=Europe/Madrid:20250510T080000
DTEND;TZID=Europe/Madrid:20250510T090000
DTSTAMP:20260424T103931
CREATED:20250429T220736Z
LAST-MODIFIED:20250523T165714Z
UID:4517-1746864000-1746867600@www.artdelbonsai.org
SUMMARY:TROBADA DE SOCIS ART DEL BONSAI
DESCRIPTION:Benvolguts socis\, \nLa propera trobada de Socis d’aquest Mes d’abril del 2025\, tindrà lloc al Casal del Poble de Llerona \na les 9:00h\, Camí de l’Escola s/n  08520 Les Franqueses del Vallès\, Barcelona. \n\nUs esperem aquest proper dia 10 de maig amb els vostres bonsais!\n*La Data  habitual en què solem trobar-nos\, el el 1er dissapte Mes\, de (9:00h a 12:00h aprox.) però ha estat modificat pel següent dissabte dia 10.
URL:https://www.artdelbonsai.org/calendari/trobada-de-socis-el-10-de-maig-del-2025/
CATEGORIES:Esdeveniments-Trobades
ATTACH;FMTTYPE=image/jpeg:https://www.artdelbonsai.org/wp-content/uploads/2025/05/trobades-socis.jpg
END:VEVENT
BEGIN:VEVENT
DTSTART;TZID=Europe/Madrid:20250427T090000
DTEND;TZID=Europe/Madrid:20250427T120000
DTSTAMP:20260424T103931
CREATED:20250418T003825Z
LAST-MODIFIED:20250522T143526Z
UID:2956-1745744400-1745755200@www.artdelbonsai.org
SUMMARY:TROBADA SOCIS ART DEL BONSAI
DESCRIPTION:  \nBenvolguts socis\, \nLa propera trobada de Socis d’aquest Mes d’abril del 2025\, tindrà lloc al Casal del Poble de Llerona \na les 9:00h\, Camí de l’Escola s/n  08520 Les Franqueses del Vallès\, Barcelona. \nUs esperem aquest proper dia 27 d’abril amb els vostres bonsais!\n \n*Dates habituals en què solem trobar-nos\, (excepte alguna possible modificació) : 1er dissapte i 3er diumenge de Mes\, de (9:00h a 12:00h aprox.)
URL:https://www.artdelbonsai.org/calendari/trobada-socis-art-del-bonsai/
CATEGORIES:Esdeveniments-Trobades
ATTACH;FMTTYPE=image/jpeg:https://www.artdelbonsai.org/wp-content/uploads/2025/04/Trobades-27-4-25-2.jpeg
END:VEVENT
BEGIN:VEVENT
DTSTART;TZID=Europe/Madrid:20250426T100000
DTEND;TZID=Europe/Madrid:20250427T000000
DTSTAMP:20260424T103931
CREATED:20250422T065838Z
LAST-MODIFIED:20250522T143457Z
UID:3652-1745661600-1745712000@www.artdelbonsai.org
SUMMARY:EXPOSICIÓ DE BONSAIS I KUSAMONO
DESCRIPTION:La Mostra de Bonsai i Kusamono és una oportunitat única per explorar la bellesa i l’art dels bonsais i les plantes acompanyants. Aquesta exposició\, que es realitza al Jardins de Ca n’Arús\, presenta una selecció d’arbres de les col·leccions més destacades. \nHo organitza: Associació Catalana d’Amics del Bonsai. \nDiumenge 27 d’abril: amb la participació de l’Orquestra Simfònica Catalana de 18 h a 19 h. \nData: del 26 al 27 d’abril \nHora: 10:00h \nLloc: Jardins de Ca n’Arús
URL:https://www.artdelbonsai.org/calendari/exposicio-de-bonsais-i-kusamono/
CATEGORIES:Esdeveniments-Notícies
ATTACH;FMTTYPE=image/jpeg:https://www.artdelbonsai.org/wp-content/uploads/2025/04/expcicio-kusamono-21-4-25-hospitalet.jpg
END:VEVENT
BEGIN:VEVENT
DTSTART;TZID=Europe/Madrid:20250425T100000
DTEND;TZID=Europe/Madrid:20250425T140000
DTSTAMP:20260424T103931
CREATED:20250421T135337Z
LAST-MODIFIED:20250522T143434Z
UID:3543-1745575200-1745589600@www.artdelbonsai.org
SUMMARY:CURS DE TANUKI AMB JUAN PROFUNDO
DESCRIPTION:La Tercera i darrera part del monogràfic sobre tanuki. \nEn aquesta part guiarem el plantó pel canal i el plantarem a l’angle i posició que millor quedi per al nostre futur Bonsai. \nEl curs es farà a Koushoen i les places són limitades! cal inscripció previa. \nEl curs tindrà lloc a les instal·lacions del: koushoen_bonsai_garden \nUbicació del Centre KOUSHO-EN BONSAI GARDEN:
URL:https://www.artdelbonsai.org/calendari/curs-de-tanuki-amb-juan-profundo/
CATEGORIES:Esdeveniments-Tallers
ATTACH;FMTTYPE=image/jpeg:https://www.artdelbonsai.org/wp-content/uploads/2025/04/curso-tanuki-2025.jpg
END:VEVENT
BEGIN:VEVENT
DTSTART;TZID=Europe/Madrid:20250424T173000
DTEND;TZID=Europe/Madrid:20250424T173000
DTSTAMP:20260424T103931
CREATED:20250415T155225Z
LAST-MODIFIED:20250522T143328Z
UID:3142-1745515800-1745515800@www.artdelbonsai.org
SUMMARY:TALLER DE BONSAIS SPAI ZERO
DESCRIPTION:El proper dia 24 d’abril tindrà lloc un taller destinat a la gent jove\, al Centre Cultural de Bellavista\, en concret a l’Espai Zero. \nOrganitzat l’Ajuntament de les Franqueses del Vallès\, amb la col·laboració de l’associació Artdelbonsai impartirà un taller de Bonsais. \nEspai Zero. Taller de bonsais\nDijous\, 24 d’abril de 2025 a les 17:30h \nMés informació al 670312963 o a pij.franqueses@lesfraqueses.cat \nCentre Cultural de Bellavista\nCarrer d’Asturies\, 1 – 08521 Les Franqueses del Vallès (Bellavista) – Barcelona\nTelèfon: 938 405 782\nFax: 938 403 890\nAdreça electrònica: consergeria.ccb@lesfranqueses.cat\nVegeu-ne la situació al mapa \n  \n \nOrganitza: Ajuntament de Les Franqueses del Vallès   \nCol·labora: Associació Cultural Art del Bonsai   
URL:https://www.artdelbonsai.org/calendari/taller-de-bonsais-spai-zero/
CATEGORIES:Esdeveniments-Tallers
ATTACH;FMTTYPE=image/jpeg:https://www.artdelbonsai.org/wp-content/uploads/2025/04/spaizero-artbonsai-24-4-25-2.jpg
END:VEVENT
BEGIN:VEVENT
DTSTART;VALUE=DATE:20250413
DTEND;VALUE=DATE:20250415
DTSTAMP:20260424T103931
CREATED:20250405T153032Z
LAST-MODIFIED:20250522T143248Z
UID:3137-1744502400-1744675199@www.artdelbonsai.org
SUMMARY:JORNADES DEL BONSAI AMB MISTRAL BONSAI
DESCRIPTION:Els dies 13 i 14 d’abril es ralizarà la Jornada del Bonsai 2024 a MISTRAL BONSAI. \nCtra.N-340km. 1093\, Camarles (Tarragona) \nl’entrada és gratuïta \nEs portarà terme: exposició\, tallers\, visites guiades i moltes coses més! \nPER VEURE EL PROGRAMA CLICAR A L’ADREÇA: \nhttps://drive.google.com/file/d/1qAJm8b1i8qNhhM3Rz9wp7wKWL2jJNmER/view \n  \n\n  \n 
URL:https://www.artdelbonsai.org/calendari/jornades-del-bonsai-amb-mistral-bonsai/
CATEGORIES:Esdeveniments-Notícies
ATTACH;FMTTYPE=image/jpeg:https://www.artdelbonsai.org/wp-content/uploads/2025/04/Jonada-bonsais-2025-portada-imatge.jpeg
END:VEVENT
END:VCALENDAR