﻿BEGIN:VCALENDAR
VERSION:2.0
PRODID:-//Art del Bonsai - ECPv6.15.20//NONSGML v1.0//EN
CALSCALE:GREGORIAN
METHOD:PUBLISH
X-WR-CALNAME:Art del Bonsai
X-ORIGINAL-URL:https://www.artdelbonsai.org
X-WR-CALDESC:Esdeveniments per Art del Bonsai
REFRESH-INTERVAL;VALUE=DURATION:PT1H
X-Robots-Tag:noindex
X-PUBLISHED-TTL:PT1H
BEGIN:VTIMEZONE
TZID:Europe/Madrid
BEGIN:DAYLIGHT
TZOFFSETFROM:+0100
TZOFFSETTO:+0200
TZNAME:CEST
DTSTART:20240331T010000
END:DAYLIGHT
BEGIN:STANDARD
TZOFFSETFROM:+0200
TZOFFSETTO:+0100
TZNAME:CET
DTSTART:20241027T010000
END:STANDARD
BEGIN:DAYLIGHT
TZOFFSETFROM:+0100
TZOFFSETTO:+0200
TZNAME:CEST
DTSTART:20250330T010000
END:DAYLIGHT
BEGIN:STANDARD
TZOFFSETFROM:+0200
TZOFFSETTO:+0100
TZNAME:CET
DTSTART:20251026T010000
END:STANDARD
BEGIN:DAYLIGHT
TZOFFSETFROM:+0100
TZOFFSETTO:+0200
TZNAME:CEST
DTSTART:20260329T010000
END:DAYLIGHT
BEGIN:STANDARD
TZOFFSETFROM:+0200
TZOFFSETTO:+0100
TZNAME:CET
DTSTART:20261025T010000
END:STANDARD
BEGIN:DAYLIGHT
TZOFFSETFROM:+0100
TZOFFSETTO:+0200
TZNAME:CEST
DTSTART:20270328T010000
END:DAYLIGHT
BEGIN:STANDARD
TZOFFSETFROM:+0200
TZOFFSETTO:+0100
TZNAME:CET
DTSTART:20271031T010000
END:STANDARD
END:VTIMEZONE
BEGIN:VEVENT
DTSTART;TZID=Europe/Madrid:20251213T090000
DTEND;TZID=Europe/Madrid:20251213T120000
DTSTAMP:20260422T224349
CREATED:20251119T092940Z
LAST-MODIFIED:20251119T093602Z
UID:5756-1765616400-1765627200@www.artdelbonsai.org
SUMMARY:TROBADA SOCIS EL 13 DE DESEMBRE DEL 2025
DESCRIPTION:Us recordem\, \nQue aquest mes de desembre la trobada \, serà el dissabte dia 13\, al Casal del Poble de Llerona. \n A les 9:00h\, Camí de l´Escola s/n Les Franqueses del Vallès. \n\n\n \n\n  \n*  La Data  habitual en què solem trobar-nos\, es el 1er dissabte i 3er diumenge de Mes\, (9:00h a 12:00h aprox.)
URL:https://www.artdelbonsai.org/calendari/trobada-13-12-25/
CATEGORIES:Esdeveniments-Trobades
ATTACH;FMTTYPE=image/jpeg:https://www.artdelbonsai.org/wp-content/uploads/2025/11/trobades-socis-13-12-25.jpg
END:VEVENT
BEGIN:VEVENT
DTSTART;TZID=Europe/Madrid:20251221T110000
DTEND;TZID=Europe/Madrid:20251221T130000
DTSTAMP:20260422T224349
CREATED:20251201T112111Z
LAST-MODIFIED:20251214T230820Z
UID:5823-1766314800-1766322000@www.artdelbonsai.org
SUMMARY:TALLER DE NADAL\, I TROBADA 21-12-2025
DESCRIPTION:El dia 21 de desembre de 2025\,  a la Fira de Nadal 2025 de Les Franqueses del Vallès\, situada a la plaça de l’Esposada hi haurà un Taller infantil de Bonsai de l’Associació Art del Bonsai. \nDisposarem d’un espai\, on podreu veure alguns socis treballant els seus arbres (com en les trobades bimensuals del Poble de Llerona) on hi trobareu informació de l’associació. \nEl taller infantil serà al matí d’11 a 13 h on es faran dos torns de treball. \nEn el taller cada infant podrà aprendre les tècniques mes bàsiques del treball i manteniment d’un bonsai. \nEs tindrà l’opció\, en finalitzar el taller\, d’emportar-se l’arbre que hagi treballat a casa. \nTambé s’entregarà un dossier amb tota la informació del bonsai que s’hagi escollit i el seu manteniment. \nLocalització de la plaça de l’Espolsada: Click aquí \nOrganitza: Ajuntament de Les Franqueses del Vallès   \nCol·labora: l’Associació Cultural Art del Bonsai.  \n 
URL:https://www.artdelbonsai.org/calendari/taller-de-nadal-del-bonsai-2025/
CATEGORIES:Esdeveniments-Tallers
ATTACH;FMTTYPE=image/png:https://www.artdelbonsai.org/wp-content/uploads/2025/12/Pancarta-fira-2025-i-trobada.png
END:VEVENT
BEGIN:VEVENT
DTSTART;TZID=Europe/Madrid:20251225T090000
DTEND;TZID=Europe/Madrid:20260118T120000
DTSTAMP:20260422T224349
CREATED:20251207T215111Z
LAST-MODIFIED:20251208T223924Z
UID:5928-1766653200-1768737600@www.artdelbonsai.org
SUMMARY:BONES FESTES I FELIÇ ANY NOU
DESCRIPTION:Art del bonsai us desitja molt bones Festes i molt bon any 2026! \n\n\n \nLes Trobades de Socis es reprendràn el mes de Gener\, en concret el dissabte dia 10\, i el diumenge dia 18\, al Casal del Poble de Llerona. A les 9:00h\, Camí de l´Escola s/n Les Franqueses del Vallès. \n\n\n \n*  La Data  habitual en què solem trobar-nos\, es el 1er dissabte i 3er diumenge Mes\, de (9:00h a 12:00h aprox.)  
URL:https://www.artdelbonsai.org/calendari/trobada-socis-el-10-i-18-1-26/
CATEGORIES:Esdeveniments-Notícies
ATTACH;FMTTYPE=image/jpeg:https://www.artdelbonsai.org/wp-content/uploads/2025/12/Felicitacio-Nadal-Art-del-Bonsai.jpg
END:VEVENT
BEGIN:VEVENT
DTSTART;TZID=Europe/Madrid:20260110T090000
DTEND;TZID=Europe/Madrid:20260110T120000
DTSTAMP:20260422T224349
CREATED:20260107T230747Z
LAST-MODIFIED:20260107T231132Z
UID:5971-1768035600-1768046400@www.artdelbonsai.org
SUMMARY:TROBADA SOCIS EL 10 DE GENER DEL 2026
DESCRIPTION:Benvolguts socis\, \n\n\n \nLa primera trobada d’aquest mes de Gener\, serà el dissabte dia 10\, al Casal del Poble de Llerona. \n A les 9:00h\, Camí de l´Escola s/n Les Franqueses del Vallès. \n\n\n \n\n  \n*  La Data  habitual en què solem trobar-nos\, es el 1er dissabte i 3er diumenge de Mes\, (9:00h a 12:00h aprox.)
URL:https://www.artdelbonsai.org/calendari/trobada-socis-10-1-2026/
CATEGORIES:Esdeveniments-Trobades
ATTACH;FMTTYPE=image/png:https://www.artdelbonsai.org/wp-content/uploads/2026/01/Trobades-socis-10-1-26.png
END:VEVENT
BEGIN:VEVENT
DTSTART;TZID=Europe/Madrid:20260118T090000
DTEND;TZID=Europe/Madrid:20260118T120000
DTSTAMP:20260422T224349
CREATED:20260112T093044Z
LAST-MODIFIED:20260112T093339Z
UID:6002-1768726800-1768737600@www.artdelbonsai.org
SUMMARY:TROBADA SOCIS EL 18 DE GENER DEL 2026
DESCRIPTION:Benvolguts socis\, \n\n\n \nLa segona trobada d’aquest mes de Gener\, serà el diumenge dia 18\, al Casal del Poble de Llerona. \n A les 9:00h\, Camí de l´Escola s/n Les Franqueses del Vallès. \n\n\n \n\n  \n*  La Data  habitual en què solem trobar-nos\, es el 1er dissabte i 3er diumenge de Mes\, (9:00h a 12:00h aprox.)
URL:https://www.artdelbonsai.org/calendari/trobada-socis-18-1-2026/
CATEGORIES:Esdeveniments-Trobades
ATTACH;FMTTYPE=image/png:https://www.artdelbonsai.org/wp-content/uploads/2026/01/Trobades-socis-18-1-26.png
END:VEVENT
BEGIN:VEVENT
DTSTART;TZID=Europe/Madrid:20260207T090000
DTEND;TZID=Europe/Madrid:20260207T120000
DTSTAMP:20260422T224349
CREATED:20260204T110221Z
LAST-MODIFIED:20260205T094738Z
UID:6045-1770454800-1770465600@www.artdelbonsai.org
SUMMARY:TROBADA SOCIS EL 7 DE FEBRER DEL 2026
DESCRIPTION:Benvolguts socis\, \n\n\n \nLa primera trobada d’aquest mes de Febrer\, serà el dissabte dia 7\, al Casal del Poble de Llerona. \n A les 9:00h\, Camí de l´Escola s/n Les Franqueses del Vallès. \n\n\n \n\n  \n*  La Data  habitual en què solem trobar-nos\, es el 1er dissabte i 3er diumenge de Mes (9:00h a 12:00h aprox.)
URL:https://www.artdelbonsai.org/calendari/trobada-socis-el-7-2-2026/
CATEGORIES:Esdeveniments-Trobades
ATTACH;FMTTYPE=image/png:https://www.artdelbonsai.org/wp-content/uploads/2026/02/Trobades-socis-7-2-26.png
END:VEVENT
BEGIN:VEVENT
DTSTART;TZID=Europe/Madrid:20260228T090000
DTEND;TZID=Europe/Madrid:20260228T120000
DTSTAMP:20260422T224349
CREATED:20260213T075457Z
LAST-MODIFIED:20260213T080559Z
UID:6071-1772269200-1772280000@www.artdelbonsai.org
SUMMARY:TROBADA SOCIS EL 28 DE FEBRER DEL 2026
DESCRIPTION:Benvolguts socis\, \n\n\n \nLa segona trobada d’aquest mes de Febrer\, serà el dissabte dia 28\, al Casal del Poble de Llerona. \n A les 9:00h\, Camí de l´Escola s/n Les Franqueses del Vallès. \n\n\n \n\n  \n*  La Data  habitual en què solem trobar-nos\, es el 1er dissabte i 3er diumenge de Mes\, però en aquest cas ha estat modificat pel dissabte dia 28 (9:00h a 12:00h aprox.)
URL:https://www.artdelbonsai.org/calendari/trobada-28-2-2026/
CATEGORIES:Esdeveniments-Trobades
ATTACH;FMTTYPE=image/png:https://www.artdelbonsai.org/wp-content/uploads/2026/02/Trobades-socis-28-2-26.png
END:VEVENT
BEGIN:VEVENT
DTSTART;TZID=Europe/Madrid:20260308T090000
DTEND;TZID=Europe/Madrid:20260308T120000
DTSTAMP:20260422T224349
CREATED:20260306T082909Z
LAST-MODIFIED:20260306T082929Z
UID:6086-1772960400-1772971200@www.artdelbonsai.org
SUMMARY:TROBADA SOCIS EL 8 DE MARÇ DEL 2026
DESCRIPTION:Benvolguts socis\, \n\n\n \nLa primera trobada d’aquest mes de Març\, serà el diumenge dia 8\, al Casal del Poble de Llerona. \n A les 9:00h\, Camí de l´Escola s/n Les Franqueses del Vallès. \n\n\n \n\n  \n*  La Data  habitual en què solem trobar-nos\, es el 1er dissabte i 3er diumenge de Mes\, però en aquest cas ha estat modificat pel diumenge dia 8 (9:00h a 12:00h aprox.)
URL:https://www.artdelbonsai.org/calendari/trobada-socis-el-8-3-2026/
CATEGORIES:Esdeveniments-Trobades
ATTACH;FMTTYPE=image/png:https://www.artdelbonsai.org/wp-content/uploads/2026/01/Trobades-socis-8-3-26.png
END:VEVENT
BEGIN:VEVENT
DTSTART;TZID=Europe/Madrid:20260321T090000
DTEND;TZID=Europe/Madrid:20260321T120000
DTSTAMP:20260422T224349
CREATED:20260314T074246Z
LAST-MODIFIED:20260314T075109Z
UID:6089-1774083600-1774094400@www.artdelbonsai.org
SUMMARY:TROBADA SOCIS EL 21 DE MARÇ DEL 2026
DESCRIPTION:Benvolguts socis\, \n\n\n \nLa segona trobada d’aquest mes de Març\, serà el dissabte dia 21\, al Casal del Poble de Llerona. \n A les 9:00h\, Camí de l´Escola s/n Les Franqueses del Vallès. \n\n\n \n\n  \n*  La Data  habitual en què solem trobar-nos\, es el 1er dissabte i 3er diumenge de Mes\, però en aquest cas ha estat modificat pel dissabte dia 21 (9:00h a 12:00h aprox.)
URL:https://www.artdelbonsai.org/calendari/trobada-21-3-26/
CATEGORIES:Esdeveniments-Trobades
ATTACH;FMTTYPE=image/png:https://www.artdelbonsai.org/wp-content/uploads/2026/03/Trobades-socis-21-3-26.png
END:VEVENT
BEGIN:VEVENT
DTSTART;TZID=Europe/Madrid:20260328T100000
DTEND;TZID=Europe/Madrid:20260328T120000
DTSTAMP:20260422T224349
CREATED:20260314T181105Z
LAST-MODIFIED:20260314T181105Z
UID:6118-1774692000-1774699200@www.artdelbonsai.org
SUMMARY:ASSEMBLEA DE SOCIS EL 28-3-26
DESCRIPTION:Benvolguts socis\, \nEl proper dissabte dia 28 de març de 2026\, en primera convocatòria 10 hores i en segona convocatòria a les 10\,30 hores\, es farà l’Assemblea de socis al local social de Llerona. Es prega l’assistència.  Si no és possible\, empleneu el document que hem adjuntat de delegació de vot i fer-ho arribar a l’associació. GRÀCIES!! \nPer veure els documents clicar sobre l’adreça: \n  \n\nAdjunt dos PDF amb totes les instruccions: \n\nConvocatoria Assemblea Socis \nDelegacion de Voto \n\n 
URL:https://www.artdelbonsai.org/calendari/assemblea-de-socis-el-28-3-26/
CATEGORIES:Esdeveniments-Notícies
ATTACH;FMTTYPE=image/png:https://www.artdelbonsai.org/wp-content/uploads/2025/04/assamblea-socis.png
END:VEVENT
BEGIN:VEVENT
DTSTART;TZID=Europe/Madrid:20260418T090000
DTEND;TZID=Europe/Madrid:20260418T120000
DTSTAMP:20260422T224349
CREATED:20260416T213228Z
LAST-MODIFIED:20260416T215240Z
UID:6195-1776502800-1776513600@www.artdelbonsai.org
SUMMARY:TROBADA SOCIS EL 18 D'ABRIL DEL 2026
DESCRIPTION:Benvolguts socis\, \n\n\n \nLa segona trobada d’aquest mes d’Abril\, serà el dissabte dia 18\, al Casal del Poble de Llerona. \n A les 9:00h\, Camí de l´Escola s/n Les Franqueses del Vallès. \n\n\n \n\n  \n* La Data habitual de les trobades de socis a canviat\, de forma permanent\, trobant-nos el 1er i 3er dissabte de Mes (excepte alguna posible modificació de 9:00h a 12:00h aprox.)
URL:https://www.artdelbonsai.org/calendari/trobada-socis-18-4-2026/
CATEGORIES:Esdeveniments-Trobades
ATTACH;FMTTYPE=image/png:https://www.artdelbonsai.org/wp-content/uploads/2026/04/Trobades-socis-18-4-26.png
END:VEVENT
END:VCALENDAR