﻿BEGIN:VCALENDAR
VERSION:2.0
PRODID:-//Art del Bonsai - ECPv6.15.20//NONSGML v1.0//EN
CALSCALE:GREGORIAN
METHOD:PUBLISH
X-WR-CALNAME:Art del Bonsai
X-ORIGINAL-URL:https://www.artdelbonsai.org
X-WR-CALDESC:Esdeveniments per Art del Bonsai
REFRESH-INTERVAL;VALUE=DURATION:PT1H
X-Robots-Tag:noindex
X-PUBLISHED-TTL:PT1H
BEGIN:VTIMEZONE
TZID:Europe/Madrid
BEGIN:DAYLIGHT
TZOFFSETFROM:+0100
TZOFFSETTO:+0200
TZNAME:CEST
DTSTART:20240331T010000
END:DAYLIGHT
BEGIN:STANDARD
TZOFFSETFROM:+0200
TZOFFSETTO:+0100
TZNAME:CET
DTSTART:20241027T010000
END:STANDARD
BEGIN:DAYLIGHT
TZOFFSETFROM:+0100
TZOFFSETTO:+0200
TZNAME:CEST
DTSTART:20250330T010000
END:DAYLIGHT
BEGIN:STANDARD
TZOFFSETFROM:+0200
TZOFFSETTO:+0100
TZNAME:CET
DTSTART:20251026T010000
END:STANDARD
BEGIN:DAYLIGHT
TZOFFSETFROM:+0100
TZOFFSETTO:+0200
TZNAME:CEST
DTSTART:20260329T010000
END:DAYLIGHT
BEGIN:STANDARD
TZOFFSETFROM:+0200
TZOFFSETTO:+0100
TZNAME:CET
DTSTART:20261025T010000
END:STANDARD
BEGIN:DAYLIGHT
TZOFFSETFROM:+0100
TZOFFSETTO:+0200
TZNAME:CEST
DTSTART:20270328T010000
END:DAYLIGHT
BEGIN:STANDARD
TZOFFSETFROM:+0200
TZOFFSETTO:+0100
TZNAME:CET
DTSTART:20271031T010000
END:STANDARD
END:VTIMEZONE
BEGIN:VEVENT
DTSTART;TZID=Europe/Madrid:20251225T090000
DTEND;TZID=Europe/Madrid:20260118T120000
DTSTAMP:20260422T195611
CREATED:20251207T215111Z
LAST-MODIFIED:20251208T223924Z
UID:5928-1766653200-1768737600@www.artdelbonsai.org
SUMMARY:BONES FESTES I FELIÇ ANY NOU
DESCRIPTION:Art del bonsai us desitja molt bones Festes i molt bon any 2026! \n\n\n \nLes Trobades de Socis es reprendràn el mes de Gener\, en concret el dissabte dia 10\, i el diumenge dia 18\, al Casal del Poble de Llerona. A les 9:00h\, Camí de l´Escola s/n Les Franqueses del Vallès. \n\n\n \n*  La Data  habitual en què solem trobar-nos\, es el 1er dissabte i 3er diumenge Mes\, de (9:00h a 12:00h aprox.)  
URL:https://www.artdelbonsai.org/calendari/trobada-socis-el-10-i-18-1-26/
CATEGORIES:Esdeveniments-Notícies
ATTACH;FMTTYPE=image/jpeg:https://www.artdelbonsai.org/wp-content/uploads/2025/12/Felicitacio-Nadal-Art-del-Bonsai.jpg
END:VEVENT
END:VCALENDAR