﻿BEGIN:VCALENDAR
VERSION:2.0
PRODID:-//Art del Bonsai - ECPv6.15.20//NONSGML v1.0//EN
CALSCALE:GREGORIAN
METHOD:PUBLISH
X-WR-CALNAME:Art del Bonsai
X-ORIGINAL-URL:https://www.artdelbonsai.org
X-WR-CALDESC:Esdeveniments per Art del Bonsai
REFRESH-INTERVAL;VALUE=DURATION:PT1H
X-Robots-Tag:noindex
X-PUBLISHED-TTL:PT1H
BEGIN:VTIMEZONE
TZID:Europe/Madrid
BEGIN:DAYLIGHT
TZOFFSETFROM:+0100
TZOFFSETTO:+0200
TZNAME:CEST
DTSTART:20240331T010000
END:DAYLIGHT
BEGIN:STANDARD
TZOFFSETFROM:+0200
TZOFFSETTO:+0100
TZNAME:CET
DTSTART:20241027T010000
END:STANDARD
BEGIN:DAYLIGHT
TZOFFSETFROM:+0100
TZOFFSETTO:+0200
TZNAME:CEST
DTSTART:20250330T010000
END:DAYLIGHT
BEGIN:STANDARD
TZOFFSETFROM:+0200
TZOFFSETTO:+0100
TZNAME:CET
DTSTART:20251026T010000
END:STANDARD
BEGIN:DAYLIGHT
TZOFFSETFROM:+0100
TZOFFSETTO:+0200
TZNAME:CEST
DTSTART:20260329T010000
END:DAYLIGHT
BEGIN:STANDARD
TZOFFSETFROM:+0200
TZOFFSETTO:+0100
TZNAME:CET
DTSTART:20261025T010000
END:STANDARD
END:VTIMEZONE
BEGIN:VEVENT
DTSTART;TZID=Europe/Madrid:20251221T110000
DTEND;TZID=Europe/Madrid:20251221T130000
DTSTAMP:20260422T212144
CREATED:20251201T112111Z
LAST-MODIFIED:20251214T230820Z
UID:5823-1766314800-1766322000@www.artdelbonsai.org
SUMMARY:TALLER DE NADAL\, I TROBADA 21-12-2025
DESCRIPTION:El dia 21 de desembre de 2025\,  a la Fira de Nadal 2025 de Les Franqueses del Vallès\, situada a la plaça de l’Esposada hi haurà un Taller infantil de Bonsai de l’Associació Art del Bonsai. \nDisposarem d’un espai\, on podreu veure alguns socis treballant els seus arbres (com en les trobades bimensuals del Poble de Llerona) on hi trobareu informació de l’associació. \nEl taller infantil serà al matí d’11 a 13 h on es faran dos torns de treball. \nEn el taller cada infant podrà aprendre les tècniques mes bàsiques del treball i manteniment d’un bonsai. \nEs tindrà l’opció\, en finalitzar el taller\, d’emportar-se l’arbre que hagi treballat a casa. \nTambé s’entregarà un dossier amb tota la informació del bonsai que s’hagi escollit i el seu manteniment. \nLocalització de la plaça de l’Espolsada: Click aquí \nOrganitza: Ajuntament de Les Franqueses del Vallès   \nCol·labora: l’Associació Cultural Art del Bonsai.  \n 
URL:https://www.artdelbonsai.org/calendari/taller-de-nadal-del-bonsai-2025/
CATEGORIES:Esdeveniments-Tallers
ATTACH;FMTTYPE=image/png:https://www.artdelbonsai.org/wp-content/uploads/2025/12/Pancarta-fira-2025-i-trobada.png
END:VEVENT
END:VCALENDAR