﻿BEGIN:VCALENDAR
VERSION:2.0
PRODID:-//Art del Bonsai - ECPv6.15.20//NONSGML v1.0//EN
CALSCALE:GREGORIAN
METHOD:PUBLISH
X-WR-CALNAME:Art del Bonsai
X-ORIGINAL-URL:https://www.artdelbonsai.org
X-WR-CALDESC:Esdeveniments per Art del Bonsai
REFRESH-INTERVAL;VALUE=DURATION:PT1H
X-Robots-Tag:noindex
X-PUBLISHED-TTL:PT1H
BEGIN:VTIMEZONE
TZID:Europe/Madrid
BEGIN:DAYLIGHT
TZOFFSETFROM:+0100
TZOFFSETTO:+0200
TZNAME:CEST
DTSTART:20240331T010000
END:DAYLIGHT
BEGIN:STANDARD
TZOFFSETFROM:+0200
TZOFFSETTO:+0100
TZNAME:CET
DTSTART:20241027T010000
END:STANDARD
BEGIN:DAYLIGHT
TZOFFSETFROM:+0100
TZOFFSETTO:+0200
TZNAME:CEST
DTSTART:20250330T010000
END:DAYLIGHT
BEGIN:STANDARD
TZOFFSETFROM:+0200
TZOFFSETTO:+0100
TZNAME:CET
DTSTART:20251026T010000
END:STANDARD
BEGIN:DAYLIGHT
TZOFFSETFROM:+0100
TZOFFSETTO:+0200
TZNAME:CEST
DTSTART:20260329T010000
END:DAYLIGHT
BEGIN:STANDARD
TZOFFSETFROM:+0200
TZOFFSETTO:+0100
TZNAME:CET
DTSTART:20261025T010000
END:STANDARD
END:VTIMEZONE
BEGIN:VEVENT
DTSTART;TZID=Europe/Madrid:20251116T090000
DTEND;TZID=Europe/Madrid:20251116T120000
DTSTAMP:20260422T225214
CREATED:20251110T083248Z
LAST-MODIFIED:20251110T091855Z
UID:5652-1763283600-1763294400@www.artdelbonsai.org
SUMMARY:TROBADA SOCIS EL 16 DE NOVEMBRE DEL 2025
DESCRIPTION:Benvolguts socis\, \n\n\n \nLa segona trobada del proper mes de Novembre \, serà el diumenge dia 16\, al Casal del Poble de Llerona. \n A les 9:00h\, Camí de l´Escola s/n Les Franqueses del Vallès. \n\n\n \n\n  \n*  La Data  habitual en què solem trobar-nos\, es el 1er dissabte i 3er diumenge de Mes\, (9:00h a 12:00h aprox.)
URL:https://www.artdelbonsai.org/calendari/trobada-socis-16-11-25/
CATEGORIES:Esdeveniments-Trobades
ATTACH;FMTTYPE=image/png:https://www.artdelbonsai.org/wp-content/uploads/2025/11/Trobades-socis-16-11-25.png
END:VEVENT
END:VCALENDAR